BEGIN:VCALENDAR
VERSION:2.0
PRODID:-//Pixelnerds Academy - ECPv6.15.17.1//NONSGML v1.0//EN
CALSCALE:GREGORIAN
METHOD:PUBLISH
X-WR-CALNAME:Pixelnerds Academy
X-ORIGINAL-URL:https://pixelnerds-academy.de
X-WR-CALDESC:Veranstaltungen für Pixelnerds Academy
REFRESH-INTERVAL;VALUE=DURATION:PT1H
X-Robots-Tag:noindex
X-PUBLISHED-TTL:PT1H
BEGIN:VTIMEZONE
TZID:Europe/Berlin
BEGIN:DAYLIGHT
TZOFFSETFROM:+0100
TZOFFSETTO:+0200
TZNAME:CEST
DTSTART:20220327T010000
END:DAYLIGHT
BEGIN:STANDARD
TZOFFSETFROM:+0200
TZOFFSETTO:+0100
TZNAME:CET
DTSTART:20221030T010000
END:STANDARD
BEGIN:DAYLIGHT
TZOFFSETFROM:+0100
TZOFFSETTO:+0200
TZNAME:CEST
DTSTART:20230326T010000
END:DAYLIGHT
BEGIN:STANDARD
TZOFFSETFROM:+0200
TZOFFSETTO:+0100
TZNAME:CET
DTSTART:20231029T010000
END:STANDARD
BEGIN:DAYLIGHT
TZOFFSETFROM:+0100
TZOFFSETTO:+0200
TZNAME:CEST
DTSTART:20240331T010000
END:DAYLIGHT
BEGIN:STANDARD
TZOFFSETFROM:+0200
TZOFFSETTO:+0100
TZNAME:CET
DTSTART:20241027T010000
END:STANDARD
BEGIN:DAYLIGHT
TZOFFSETFROM:+0100
TZOFFSETTO:+0200
TZNAME:CEST
DTSTART:20250330T010000
END:DAYLIGHT
BEGIN:STANDARD
TZOFFSETFROM:+0200
TZOFFSETTO:+0100
TZNAME:CET
DTSTART:20251026T010000
END:STANDARD
END:VTIMEZONE
BEGIN:VEVENT
DTSTART;TZID=Europe/Berlin:20240516T083000
DTEND;TZID=Europe/Berlin:20240516T130000
DTSTAMP:20260419T194935
CREATED:20240411T103148Z
LAST-MODIFIED:20250213T134537Z
UID:10000010-1715848200-1715864400@pixelnerds-academy.de
SUMMARY:Online Marketing Tools für Unternehmer 16.05.2024
DESCRIPTION:Vortrag zum Thema Online Marketing Tools für Unternehmer
URL:https://pixelnerds-academy.de/workshops/online-marketing-tools-fuer-unternehmer-16-05-2024/
LOCATION:Pixelnerds GmbH\, Unterwallstraße 14\, Moers\, Nordrhein-Westfalen\, 47441\, Deutschland
CATEGORIES:Online Marketing Strategien
ORGANIZER;CN="Pixelnerds Academy":MAILTO:info@pixelnerds.de
END:VEVENT
BEGIN:VEVENT
DTSTART;TZID=Europe/Berlin:20240513T183000
DTEND;TZID=Europe/Berlin:20240513T203000
DTSTAMP:20260419T194935
CREATED:20240411T102430Z
LAST-MODIFIED:20240514T085833Z
UID:10000009-1715625000-1715632200@pixelnerds-academy.de
SUMMARY:Vortrag WhatsApp Business 13.05.2024
DESCRIPTION:Vortrag zum Thema WhatsApp Business
URL:https://pixelnerds-academy.de/workshops/vortrag-whatsapp-business-13-05-2024/
LOCATION:Pixelnerds GmbH\, Unterwallstraße 14\, Moers\, Nordrhein-Westfalen\, 47441\, Deutschland
CATEGORIES:WhatsApp Business
ORGANIZER;CN="Pixelnerds Academy":MAILTO:info@pixelnerds.de
END:VEVENT
BEGIN:VEVENT
DTSTART;TZID=Europe/Berlin:20231127T183000
DTEND;TZID=Europe/Berlin:20231127T203000
DTSTAMP:20260419T194935
CREATED:20231109T082245Z
LAST-MODIFIED:20231109T100054Z
UID:10000002-1701109800-1701117000@pixelnerds-academy.de
SUMMARY:Vortrag WhatsApp Business
DESCRIPTION:Vortrag aus dem Bereich Unternehmertools zum Thema WhatsApp Business
URL:https://pixelnerds-academy.de/workshops/vortrag-whatsapp-business/
LOCATION:Pixelnerds GmbH\, Unterwallstraße 14\, Moers\, Nordrhein-Westfalen\, 47441\, Deutschland
ORGANIZER;CN="Pixelnerds Academy":MAILTO:info@pixelnerds.de
END:VEVENT
END:VCALENDAR